{
 "currentVersion": 11.5,
 "cimVersion": "3.5.0",
 "serviceDescription": "",
 "mapName": "Hartland2002",
 "description": "",
 "copyrightText": "",
 "supportsDynamicLayers": false,
 "layers": [
  {
   "id": 0,
   "name": "Hartland2002_25cm",
   "parentLayerId": -1,
   "defaultVisibility": true,
   "subLayerIds": [
    1,
    2,
    3
   ],
   "minScale": 0,
   "maxScale": 0,
   "type": "Mosaic Layer",
   "supportsDynamicLegends": false
  },
  {
   "id": 1,
   "name": "Boundary",
   "parentLayerId": 0,
   "defaultVisibility": false,
   "subLayerIds": null,
   "minScale": 0,
   "maxScale": 0,
   "type": "Feature Layer",
   "geometryType": "esriGeometryPolygon",
   "supportsDynamicLegends": true
  },
  {
   "id": 2,
   "name": "Footprint",
   "parentLayerId": 0,
   "defaultVisibility": false,
   "subLayerIds": null,
   "minScale": 0,
   "maxScale": 0,
   "type": "Feature Layer",
   "geometryType": "esriGeometryPolygon",
   "supportsDynamicLegends": true
  },
  {
   "id": 3,
   "name": "Image",
   "parentLayerId": 0,
   "defaultVisibility": true,
   "subLayerIds": null,
   "minScale": 0,
   "maxScale": 0,
   "type": "Raster Layer",
   "supportsDynamicLegends": true
  },
  {
   "id": 4,
   "name": "Hartland2002_50cm",
   "parentLayerId": -1,
   "defaultVisibility": true,
   "subLayerIds": [
    5,
    6,
    7
   ],
   "minScale": 0,
   "maxScale": 0,
   "type": "Mosaic Layer",
   "supportsDynamicLegends": false
  },
  {
   "id": 5,
   "name": "Boundary",
   "parentLayerId": 4,
   "defaultVisibility": false,
   "subLayerIds": null,
   "minScale": 0,
   "maxScale": 0,
   "type": "Feature Layer",
   "geometryType": "esriGeometryPolygon",
   "supportsDynamicLegends": true
  },
  {
   "id": 6,
   "name": "Footprint",
   "parentLayerId": 4,
   "defaultVisibility": false,
   "subLayerIds": null,
   "minScale": 0,
   "maxScale": 0,
   "type": "Feature Layer",
   "geometryType": "esriGeometryPolygon",
   "supportsDynamicLegends": true
  },
  {
   "id": 7,
   "name": "Image",
   "parentLayerId": 4,
   "defaultVisibility": true,
   "subLayerIds": null,
   "minScale": 0,
   "maxScale": 0,
   "type": "Raster Layer",
   "supportsDynamicLegends": true
  }
 ],
 "tables": [],
 "spatialReference": {
  "wkid": 26910,
  "latestWkid": 26910,
  "xyTolerance": 0.001,
  "zTolerance": 0.001,
  "mTolerance": 0.001,
  "falseX": -5120900,
  "falseY": -9998100,
  "xyUnits": 10000,
  "falseZ": -100000,
  "zUnits": 10000,
  "falseM": -100000,
  "mUnits": 10000
 },
 "singleFusedMapCache": true,
 "tileInfo": {
  "rows": 256,
  "cols": 256,
  "dpi": 96,
  "format": "PNG",
  "compressionQuality": 0,
  "origin": {
   "x": -5120900,
   "y": 9998100
  },
  "spatialReference": {
   "wkid": 26910,
   "latestWkid": 26910,
   "xyTolerance": 0.001,
   "zTolerance": 2,
   "mTolerance": 0.001,
   "falseX": -5120900,
   "falseY": -9998100,
   "xyUnits": 4.504455473910538E8,
   "falseZ": 0,
   "zUnits": 1,
   "falseM": -100000,
   "mUnits": 10000
  },
  "lods": [
   {
    "level": 0,
    "resolution": 119.06273812547626,
    "scale": 450000
   },
   {
    "level": 1,
    "resolution": 66.1459656252646,
    "scale": 250000
   },
   {
    "level": 2,
    "resolution": 26.458386250105836,
    "scale": 100000
   },
   {
    "level": 3,
    "resolution": 13.229193125052918,
    "scale": 50000
   },
   {
    "level": 4,
    "resolution": 5.291677250021167,
    "scale": 20000
   },
   {
    "level": 5,
    "resolution": 2.6458386250105836,
    "scale": 10000
   },
   {
    "level": 6,
    "resolution": 1.3229193125052918,
    "scale": 5000
   },
   {
    "level": 7,
    "resolution": 0.6614596562526459,
    "scale": 2500
   },
   {
    "level": 8,
    "resolution": 0.26458386250105836,
    "scale": 1000
   },
   {
    "level": 9,
    "resolution": 0.13229193125052918,
    "scale": 500
   }
  ]
 },
 "storageInfo": {
  "storageFormat": "esriMapCacheStorageModeCompactV2",
  "packetSize": 128
 },
 "initialExtent": {
  "xmin": 462315.8254412156,
  "ymin": 5374631.300744961,
  "xmax": 465573.09470926976,
  "ymax": 5377371.690972623,
  "spatialReference": {
   "wkid": 26910,
   "latestWkid": 26910,
   "xyTolerance": 0.001,
   "zTolerance": 0.001,
   "mTolerance": 0.001,
   "falseX": -5120900,
   "falseY": -9998100,
   "xyUnits": 10000,
   "falseZ": -100000,
   "zUnits": 10000,
   "falseM": -100000,
   "mUnits": 10000
  }
 },
 "fullExtent": {
  "xmin": 464414.496556,
  "ymin": 5374842,
  "xmax": 466519.9966000002,
  "ymax": 5377544,
  "spatialReference": {
   "wkid": 26910,
   "latestWkid": 26910,
   "xyTolerance": 0.001,
   "zTolerance": 0.001,
   "mTolerance": 0.001,
   "falseX": -5120900,
   "falseY": -9998100,
   "xyUnits": 10000,
   "falseZ": -100000,
   "zUnits": 10000,
   "falseM": -100000,
   "mUnits": 10000
  }
 },
 "datesInUnknownTimezone": false,
 "minScale": 450000,
 "maxScale": 500,
 "units": "esriMeters",
 "supportedImageFormatTypes": "PNG32,PNG24,PNG,JPG,DIB,TIFF,EMF,PS,PDF,GIF,SVG,SVGZ,BMP",
 "documentInfo": {
  "Title": "Hartland2002",
  "Author": "",
  "Comments": "",
  "Subject": "",
  "Category": "",
  "Version": "3.2.0",
  "AntialiasingMode": "Fast",
  "TextAntialiasingMode": "Force",
  "Keywords": ""
 },
 "supportsQueryDomains": true,
 "capabilities": "Map",
 "supportedQueryFormats": "JSON, geoJSON, PBF",
 "exportTilesAllowed": false,
 "referenceScale": 0.0,
 "datumTransformations": [
  {
   "geoTransforms": [
    {
     "wkt2": "COORDINATEOPERATION[\"NAD83_to_NAD83CSRS_CRD\",SOURCECRS[GEOGCRS[\"GCS_North_American_1983_CSRS\",DATUM[\"D_North_American_1983_CSRS\",ELLIPSOID[\"GRS_1980\",6378137.0,298.257222101,LENGTHUNIT[\"Meter\",1.0]]],PRIMEM[\"Greenwich\",0.0,ANGLEUNIT[\"Degree\",0.0174532925199433]],CS[ellipsoidal,2],AXIS[\"Latitude (lat)\",north,ORDER[1],ANGLEUNIT[\"Degree\",0.0174532925199433]],AXIS[\"Longitude (lon)\",east,ORDER[2],ANGLEUNIT[\"Degree\",0.0174532925199433]]]],TARGETCRS[GEOGCRS[\"GCS_North_American_1983\",DATUM[\"D_North_American_1983\",ELLIPSOID[\"GRS_1980\",6378137.0,298.257222101,LENGTHUNIT[\"Meter\",1.0]]],PRIMEM[\"Greenwich\",0.0,ANGLEUNIT[\"Degree\",0.0174532925199433]],CS[ellipsoidal,2],AXIS[\"Latitude (lat)\",north,ORDER[1],ANGLEUNIT[\"Degree\",0.0174532925199433]],AXIS[\"Longitude (lon)\",east,ORDER[2],ANGLEUNIT[\"Degree\",0.0174532925199433]]]],METHOD[\"NTv2\"],PARAMETERFILE[\"canada/CRD93_00.GSB\"]]",
     "wkt": "GEOGTRAN[\"NAD83_to_NAD83CSRS_CRD\",GEOGCS[\"GCS_North_American_1983_CSRS\",DATUM[\"D_North_American_1983_CSRS\",SPHEROID[\"GRS_1980\",6378137.0,298.257222101]],PRIMEM[\"Greenwich\",0.0],UNIT[\"Degree\",0.0174532925199433]],GEOGCS[\"GCS_North_American_1983\",DATUM[\"D_North_American_1983\",SPHEROID[\"GRS_1980\",6378137.0,298.257222101]],PRIMEM[\"Greenwich\",0.0],UNIT[\"Degree\",0.0174532925199433]],METHOD[\"NTv2\"],PARAMETER[\"Dataset_canada/CRD93_00.GSB\",0.0]]",
     "transformForward": true,
     "name": "NAD83_to_NAD83CSRS_CRD"
    }
   ]
  },
  {
   "geoTransforms": [
    {
     "wkt2": "COORDINATEOPERATION[\"NAD83_to_NAD83CSRS_CRD\",SOURCECRS[GEOGCRS[\"GCS_North_American_1983_CSRS\",DATUM[\"D_North_American_1983_CSRS\",ELLIPSOID[\"GRS_1980\",6378137.0,298.257222101,LENGTHUNIT[\"Meter\",1.0]]],PRIMEM[\"Greenwich\",0.0,ANGLEUNIT[\"Degree\",0.0174532925199433]],CS[ellipsoidal,2],AXIS[\"Latitude (lat)\",north,ORDER[1],ANGLEUNIT[\"Degree\",0.0174532925199433]],AXIS[\"Longitude (lon)\",east,ORDER[2],ANGLEUNIT[\"Degree\",0.0174532925199433]]]],TARGETCRS[GEOGCRS[\"GCS_North_American_1983\",DATUM[\"D_North_American_1983\",ELLIPSOID[\"GRS_1980\",6378137.0,298.257222101,LENGTHUNIT[\"Meter\",1.0]]],PRIMEM[\"Greenwich\",0.0,ANGLEUNIT[\"Degree\",0.0174532925199433]],CS[ellipsoidal,2],AXIS[\"Latitude (lat)\",north,ORDER[1],ANGLEUNIT[\"Degree\",0.0174532925199433]],AXIS[\"Longitude (lon)\",east,ORDER[2],ANGLEUNIT[\"Degree\",0.0174532925199433]]]],METHOD[\"NTv2\"],PARAMETERFILE[\"canada/CRD93_00.GSB\"]]",
     "wkt": "GEOGTRAN[\"NAD83_to_NAD83CSRS_CRD\",GEOGCS[\"GCS_North_American_1983_CSRS\",DATUM[\"D_North_American_1983_CSRS\",SPHEROID[\"GRS_1980\",6378137.0,298.257222101]],PRIMEM[\"Greenwich\",0.0],UNIT[\"Degree\",0.0174532925199433]],GEOGCS[\"GCS_North_American_1983\",DATUM[\"D_North_American_1983\",SPHEROID[\"GRS_1980\",6378137.0,298.257222101]],PRIMEM[\"Greenwich\",0.0],UNIT[\"Degree\",0.0174532925199433]],METHOD[\"NTv2\"],PARAMETER[\"Dataset_canada/CRD93_00.GSB\",0.0]]",
     "transformForward": false,
     "name": "NAD83_to_NAD83CSRS_CRD"
    }
   ]
  }
 ],
 "supportsDatumTransformation": true,
 "archivingInfo": {
  "supportsHistoricMoment": false
 },
 "supportsClipping": true,
 "supportsSpatialFilter": true,
 "supportsTimeRelation": true,
 "supportsQueryDataElements": true,
 "mapUnits": {
  "uwkid": 9001
 },
 "maxSelectionCount": 2000,
 "maxRecordCount": 2000,
 "maxImageHeight": 4096,
 "maxImageWidth": 4096,
 "supportedExtensions": "WMSServer"
}
